BEGIN:VCALENDAR
VERSION:2.0
PRODID:-//Library Market//iCal Export//EN
BEGIN:VEVENT
SUMMARY:Bookmobile Stop: Washington County Commission on Aging
UID:73943
DTSTAMP:20260425T183100Z
DTSTART:20260722T160000Z
DTEND:20260722T163000Z
LOCATION:Washington County Commission on Aging, 215 Otho Holland Dr, Willi
 amsport, MD 21795, United States
ROOM: Bookmobile Stop: Washington County Commission on Aging
DESCRIPTION:Everyone is welcome!
URL:https://wcfl.librarymarket.com/event/bookmobile-stop-washington-county
 -commission-aging-73943
END:VEVENT
END:VCALENDAR
