BEGIN:VCALENDAR
VERSION:2.0
PRODID:-//Library Market//iCal Export//EN
BEGIN:VEVENT
SUMMARY:Bookmobile Stop: Spickler Rd
UID:73916
DTSTAMP:20260425T183100Z
DTSTART:20260618T140000Z
DTEND:20260618T141500Z
LOCATION:Spickler Rd, Clear Spring, MD 21722, United States
ROOM: Bookmobile Stop: Spickler Rd
DESCRIPTION:Everyone is welcome!
URL:https://wcfl.librarymarket.com/event/bookmobile-stop-spickler-rd-73916
END:VEVENT
END:VCALENDAR
