BEGIN:VCALENDAR
VERSION:2.0
PRODID:-//Library Market//iCal Export//EN
BEGIN:VEVENT
SUMMARY:Bookmobile Stop: Tiny Tots
UID:73906
DTSTAMP:20260425T214000Z
DTSTART:20260617T151500Z
DTEND:20260617T153000Z
LOCATION:Tiny Tots, 9245 Jordan Rd, Fairplay, MD 21733, United States
ROOM: Bookmobile Stop: Tiny Tots
DESCRIPTION:Children, families, and staff are welcome!
URL:https://wcfl.librarymarket.com/event/bookmobile-stop-tiny-tots-73906
END:VEVENT
END:VCALENDAR
