BEGIN:VCALENDAR
VERSION:2.0
PRODID:-//Library Market//iCal Export//EN
BEGIN:VEVENT
SUMMARY:Bookmobile Stop: Summerland Manor
UID:73904
DTSTAMP:20260425T214000Z
DTSTART:20260721T183000Z
DTEND:20260721T190000Z
LOCATION:Summerland Manor, 190 Sunbrook Ln, Hagerstown, MD 21742, United S
 tates
ROOM: Bookmobile Stop: Summerland Manor
DESCRIPTION:Everyone is welcome!
URL:https://wcfl.librarymarket.com/event/bookmobile-stop-summerland-manor-
 73904
END:VEVENT
END:VCALENDAR
