BEGIN:VCALENDAR
VERSION:2.0
PRODID:-//Library Market//iCal Export//EN
BEGIN:VEVENT
SUMMARY:Bookmobile Stop: Little Jacks North
UID:73887
DTSTAMP:20260426T021000Z
DTSTART:20260709T130000Z
DTEND:20260709T150000Z
LOCATION:Little Jacks North, 14629 Citicorp Dr, Hagerstown, MD 21742, Unit
 ed States
ROOM: Bookmobile Stop: Little Jacks North
DESCRIPTION:Children, families, and staff are welcome!
URL:https://wcfl.librarymarket.com/event/bookmobile-stop-little-jacks-nort
 h-73887
END:VEVENT
END:VCALENDAR
