BEGIN:VCALENDAR
VERSION:2.0
PRODID:-//Library Market//iCal Export//EN
BEGIN:VEVENT
SUMMARY:Bookmobile Stop: Foxleigh Meadows Community Stop
UID:73878
DTSTAMP:20260426T021000Z
DTSTART:20260810T190000Z
DTEND:20260810T200000Z
LOCATION:Johnnycake Lane, Paramount-Long Meadow, MD 21742, United States
ROOM: Bookmobile Stop: Foxleigh Meadows Community Stop
DESCRIPTION:Everyone is welcome!
URL:https://wcfl.librarymarket.com/event/bookmobile-stop-foxleigh-meadows-
 community-stop-73878
END:VEVENT
END:VCALENDAR
