BEGIN:VCALENDAR
VERSION:2.0
PRODID:-//Library Market//iCal Export//EN
BEGIN:VEVENT
SUMMARY:Bookmobile Stop: Sargent Shriver Head Start
UID:73854
DTSTAMP:20260426T025500Z
DTSTART:20260803T150000Z
DTEND:20260803T154500Z
LOCATION:Sargent Shriver Head Start, 837 Spruce St, Hagerstown, MD 21740, 
 United States
ROOM: Bookmobile Stop: Sargent Shriver Head Start
DESCRIPTION:Students and Staff welcome!
URL:https://wcfl.librarymarket.com/event/bookmobile-stop-sargent-shriver-h
 ead-start-73854
END:VEVENT
END:VCALENDAR
