BEGIN:VCALENDAR
VERSION:2.0
PRODID:-//Library Market//iCal Export//EN
BEGIN:VEVENT
SUMMARY:Bookmobile Stop: Crest &amp; Greenberry Rds
UID:73850
DTSTAMP:20260425T183100Z
DTSTART:20260807T183000Z
DTEND:20260807T190000Z
LOCATION:Crest &amp; Greenberry Rds, Hagerstown, MD 21740, United States
ROOM: Bookmobile Stop: Crest &amp; Greenberry Rds
DESCRIPTION:Everyone is welcome!
URL:https://wcfl.librarymarket.com/event/bookmobile-stop-crest-greenberry-
 rds-73850
END:VEVENT
END:VCALENDAR
