BEGIN:VCALENDAR
VERSION:2.0
PRODID:-//Library Market//iCal Export//EN
BEGIN:VEVENT
SUMMARY:Bookmobile Stop: Beginnings Daycare
UID:73834
DTSTAMP:20260425T183100Z
DTSTART:20260806T130000Z
DTEND:20260806T133000Z
LOCATION:Beginnings Daycare, 40 Mount Hebron Rd, Keedysville, MD 21756, Un
 ited States
ROOM: Bookmobile Stop: Beginnings Daycare
DESCRIPTION:Staff, children, and families are welcome!
URL:https://wcfl.librarymarket.com/event/bookmobile-stop-beginnings-daycar
 e-73834
END:VEVENT
END:VCALENDAR
