BEGIN:VCALENDAR
VERSION:2.0
PRODID:-//Library Market//iCal Export//EN
BEGIN:VEVENT
SUMMARY:Bookmobile Stop: Little Miracles
UID:73818
DTSTAMP:20260425T034300Z
DTSTART:20260602T193000Z
DTEND:20260602T194500Z
LOCATION:Little Miracles Home Daycare, 16711 Hampton Rd, Williamsport, MD 
 21795, United States
ROOM: Bookmobile Stop: Little Miracles
DESCRIPTION:Staff, Families, and Children welcome!
URL:https://wcfl.librarymarket.com/event/bookmobile-stop-little-miracles-7
 3818
END:VEVENT
END:VCALENDAR
