BEGIN:VCALENDAR
VERSION:2.0
PRODID:-//Library Market//iCal Export//EN
BEGIN:VEVENT
SUMMARY:Bookmobile Stop: Hagerstown Day Nursery
UID:73809
DTSTAMP:20260425T034300Z
DTSTART:20260601T131500Z
DTEND:20260601T133000Z
LOCATION:102 E Washington St, Hagerstown, MD 21740, United States
ROOM: Bookmobile Stop: Hagerstown Day Nursery
DESCRIPTION:Staff, children, and families are welcome!
URL:https://wcfl.librarymarket.com/event/bookmobile-stop-sargent-shriver-h
 ead-start-73809
END:VEVENT
END:VCALENDAR
