BEGIN:VCALENDAR
VERSION:2.0
PRODID:-//Library Market//iCal Export//EN
BEGIN:VEVENT
SUMMARY:Bookmobile Stop: Ms. Patty&#039;s
UID:73801
DTSTAMP:20260424T104600Z
DTSTART:20260518T124500Z
DTEND:20260518T130000Z
LOCATION:Daisy Circle, Hagerstown, MD 21742, United States
ROOM: Bookmobile Stop: Ms. Patty&#039;s
DESCRIPTION:Families and Children welcome!
URL:https://wcfl.librarymarket.com/event/bookmobile-stop-ms-pattys-73801
END:VEVENT
END:VCALENDAR
