BEGIN:VCALENDAR
VERSION:2.0
PRODID:-//Library Market//iCal Export//EN
BEGIN:VEVENT
SUMMARY:Bookmobile Stop: Fun &amp; Learning Center
UID:73778
DTSTAMP:20260424T120500Z
DTSTART:20260518T134500Z
DTEND:20260518T143000Z
LOCATION:13510 Corrello Drive, Hagerstown, MD 21742, United States
ROOM: Bookmobile Stop: Fun &amp; Learning Center
DESCRIPTION:Staff, Families, and Children welcome!
URL:https://wcfl.librarymarket.com/event/bookmobile-stop-fun-learning-cent
 er-73778
END:VEVENT
END:VCALENDAR
