BEGIN:VCALENDAR
VERSION:2.0
PRODID:-//Library Market//iCal Export//EN
BEGIN:VEVENT
SUMMARY:Bookmobile Stop: Spickler Rd
UID:73774
DTSTAMP:20260424T010800Z
DTSTART:20260526T181500Z
DTEND:20260526T183000Z
LOCATION:Spickler Rd, Clear Spring, MD 21722, United States
ROOM: Bookmobile Stop: Spickler Rd
DESCRIPTION:Everyone is welcome!
URL:https://wcfl.librarymarket.com/event/bookmobile-stop-spickler-rd-73774
END:VEVENT
END:VCALENDAR
