BEGIN:VCALENDAR
VERSION:2.0
PRODID:-//Library Market//iCal Export//EN
BEGIN:VEVENT
SUMMARY:Bookmobile Stop: Open Arms Preschool
UID:73773
DTSTAMP:20260424T163500Z
DTSTART:20260506T144500Z
DTEND:20260506T151500Z
LOCATION:Concordia Lutheran Church Open Arms Preschool, 17906 Garden Lane,
  Hagerstown, MD 21740, United States
ROOM: Bookmobile Stop: Open Arms Preschool
DESCRIPTION:Staff, Families, and Children Welcome!
URL:https://wcfl.librarymarket.com/event/bookmobile-stop-open-arms-prescho
 ol-73773
END:VEVENT
END:VCALENDAR
