BEGIN:VCALENDAR
VERSION:2.0
PRODID:-//Library Market//iCal Export//EN
BEGIN:VEVENT
SUMMARY:Bookmobile Stop: Seaton of Hagerstown
UID:73769
DTSTAMP:20260424T073100Z
DTSTART:20260803T174500Z
DTEND:20260803T184500Z
LOCATION:Seaton of Hagerstown, 1175 Professional Blvd, Hagerstown, MD 2174
 0, United States
ROOM: Bookmobile Stop: Seaton of Hagerstown
DESCRIPTION:Staff and Residents welcome!
URL:https://wcfl.librarymarket.com/event/bookmobile-stop-seaton-hagerstown
 -73769
END:VEVENT
END:VCALENDAR
