BEGIN:VCALENDAR
VERSION:2.0
PRODID:-//Library Market//iCal Export//EN
BEGIN:VEVENT
SUMMARY:Make-Up Bookmobile Stop: Washington County Commission on Aging
UID:73749
DTSTAMP:20260424T073100Z
DTSTART:20260429T160000Z
DTEND:20260429T163000Z
LOCATION:215 Otho Holland Dr, Williamsport, MD 21795, United States
ROOM: Make-Up Bookmobile Stop: Washington County Commission on Aging
DESCRIPTION:Everyone is welcome!
URL:https://wcfl.librarymarket.com/event/make-bookmobile-stop-washington-c
 ounty-commission-aging-73749
END:VEVENT
END:VCALENDAR
