BEGIN:VCALENDAR
VERSION:2.0
PRODID:-//Library Market//iCal Export//EN
BEGIN:VEVENT
SUMMARY:Felting Picture
UID:73653
DTSTAMP:20260423T140400Z
DTSTART:20260516T150000Z
DTEND:20260516T170000Z
LOCATION:12624 Broadfording Road, Clear Spring, MD 21722, United States
ROOM: Community Room - CLE
DESCRIPTION:We will make a felted landscape.Please be on time as instructi
 on begin promptly at 11:00
URL:https://wcfl.librarymarket.com/event/felting-picture-73653
END:VEVENT
END:VCALENDAR
