BEGIN:VCALENDAR
VERSION:2.0
PRODID:-//Library Market//iCal Export//EN
BEGIN:VEVENT
SUMMARY:Bookmobile Stop: Ivy Hill Farm
UID:73962
DTSTAMP:20260425T162300Z
DTSTART:20260713T143000Z
DTEND:20260713T151500Z
LOCATION:Ivy Hill Farm, 13840 Smithsburg Pike, Smithsburg, MD 21783, Unite
 d States
ROOM: Bookmobile Stop: Ivy Hill Farm
DESCRIPTION:Everyone is welcome!
URL:https://wcfl.librarymarket.com/index.php/event/bookmobile-stop-ivy-hil
 l-farm-73962
END:VEVENT
END:VCALENDAR
