BEGIN:VCALENDAR
VERSION:2.0
PRODID:-//Library Market//iCal Export//EN
BEGIN:VEVENT
SUMMARY:Bookmobile Stop: Washington County Commission on Aging
UID:73944
DTSTAMP:20260425T183100Z
DTSTART:20260826T160000Z
DTEND:20260826T163000Z
LOCATION:Washington County Commission on Aging, 215 Otho Holland Dr, Willi
 amsport, MD 21795, United States
ROOM: Bookmobile Stop: Washington County Commission on Aging
DESCRIPTION:Everyone is welcome!
URL:https://wcfl.librarymarket.com/index.php/event/bookmobile-stop-washing
 ton-county-commission-aging-73944
END:VEVENT
END:VCALENDAR
