BEGIN:VCALENDAR
VERSION:2.0
PRODID:-//Library Market//iCal Export//EN
BEGIN:VEVENT
SUMMARY:Bookmobile Stop: Fun &amp; Learning Center
UID:73933
DTSTAMP:20260425T214000Z
DTSTART:20260727T134500Z
DTEND:20260727T143000Z
LOCATION:Fun &amp; Learning Center, 13510 Corrello Drive, Hagerstown, MD 2
 1742, United States
ROOM: Bookmobile Stop: Fun &amp; Learning Center
DESCRIPTION:Staff, Families, and Children welcome!
URL:https://wcfl.librarymarket.com/index.php/event/bookmobile-stop-fun-lea
 rning-center-73933
END:VEVENT
END:VCALENDAR
