BEGIN:VCALENDAR
VERSION:2.0
PRODID:-//Library Market//iCal Export//EN
BEGIN:VEVENT
SUMMARY:Bookmobile Stop: Ms. Patty&#039;s
UID:73928
DTSTAMP:20260425T183100Z
DTSTART:20260824T124500Z
DTEND:20260824T130000Z
LOCATION:Ms. Patty&#039;s, Daisy Circle, Hagerstown, MD 21742, United Stat
 es
ROOM: Bookmobile Stop: Ms. Patty&#039;s
DESCRIPTION:Families and Children welcome!
URL:https://wcfl.librarymarket.com/index.php/event/bookmobile-stop-ms-patt
 ys-73928
END:VEVENT
END:VCALENDAR
