BEGIN:VCALENDAR
VERSION:2.0
PRODID:-//Library Market//iCal Export//EN
BEGIN:VEVENT
SUMMARY:Bookmobile Stop: Mount Nebo Preschool
UID:73896
DTSTAMP:20260425T162300Z
DTSTART:20260710T184500Z
DTEND:20260710T191500Z
LOCATION:Mount Nebo Preschool, 134 S Main St, Boonsboro, MD 21713, United 
 States
ROOM: Bookmobile Stop: Mount Nebo Preschool
DESCRIPTION:Children, families, and staff are welcome!
URL:https://wcfl.librarymarket.com/index.php/event/bookmobile-stop-mount-n
 ebo-preschool-73896
END:VEVENT
END:VCALENDAR
