BEGIN:VCALENDAR
VERSION:2.0
PRODID:-//Library Market//iCal Export//EN
BEGIN:VEVENT
SUMMARY:Bookmobile Stop: Fahrney Keedy
UID:73892
DTSTAMP:20260426T021000Z
DTSTART:20260612T180000Z
DTEND:20260612T183000Z
LOCATION:Fahrney Keedy Senior Living Community, 8507 Mapleville Rd, Boonsb
 oro, MD 21713, United States
ROOM: Bookmobile Stop: Fahrney Keedy
DESCRIPTION:Everyone is welcome!
URL:https://wcfl.librarymarket.com/index.php/event/bookmobile-stop-fahrney
 -keedy-73892
END:VEVENT
END:VCALENDAR
