BEGIN:VCALENDAR
VERSION:2.0
PRODID:-//Library Market//iCal Export//EN
BEGIN:VEVENT
SUMMARY:Bookmobile Stop: Francis Murphy Apartments
UID:73884
DTSTAMP:20260425T162300Z
DTSTART:20260714T183000Z
DTEND:20260714T190000Z
LOCATION:Francis Murphy Apartments, 20014 Rosebank Way, Hagerstown, MD 217
 42, United States
ROOM: Bookmobile Stop: Francis Murphy Apartments
DESCRIPTION:Everyone is welcome!
URL:https://wcfl.librarymarket.com/index.php/event/bookmobile-stop-francis
 -murphy-apartments-73884
END:VEVENT
END:VCALENDAR
