BEGIN:VCALENDAR
VERSION:2.0
PRODID:-//Library Market//iCal Export//EN
BEGIN:VEVENT
SUMMARY:Bookmobile Stop: Brookdale @ Robinwood
UID:73881
DTSTAMP:20260425T162300Z
DTSTART:20260714T173000Z
DTEND:20260714T181500Z
LOCATION:Brookdale Hagerstown, 20009 Rosebank Way, Hagerstown, MD 21742, U
 nited States
ROOM: Bookmobile Stop: Brookdale @ Robinwood
DESCRIPTION:Residents and staff are welcome!
URL:https://wcfl.librarymarket.com/index.php/event/bookmobile-stop-brookda
 le-robinwood-73881
END:VEVENT
END:VCALENDAR
