BEGIN:VCALENDAR
VERSION:2.0
PRODID:-//Library Market//iCal Export//EN
BEGIN:VEVENT
SUMMARY:Bookmobile Stop: Foxleigh Meadows Community Stop
UID:73877
DTSTAMP:20260425T162300Z
DTSTART:20260713T190000Z
DTEND:20260713T200000Z
LOCATION:Johnnycake Lane, Paramount-Long Meadow, MD 21742, United States
ROOM: Bookmobile Stop: Foxleigh Meadows Community Stop
DESCRIPTION:Everyone is welcome!
URL:https://wcfl.librarymarket.com/index.php/event/bookmobile-stop-foxleig
 h-meadows-community-stop-73877
END:VEVENT
END:VCALENDAR
