BEGIN:VCALENDAR
VERSION:2.0
PRODID:-//Library Market//iCal Export//EN
BEGIN:VEVENT
SUMMARY:Bookmobile Stop: Stonecroft
UID:73873
DTSTAMP:20260425T162300Z
DTSTART:20260713T180000Z
DTEND:20260713T184500Z
LOCATION:Stonecroft Apartments, 11400 Stonecroft Ct, Ste 100, Hagerstown, 
 MD 21742, United States
ROOM: Bookmobile Stop: Stonecroft
DESCRIPTION:Everyone is welcome!
URL:https://wcfl.librarymarket.com/index.php/event/bookmobile-stop-stonecr
 oft-73873
END:VEVENT
END:VCALENDAR
