BEGIN:VCALENDAR
VERSION:2.0
PRODID:-//Library Market//iCal Export//EN
BEGIN:VEVENT
SUMMARY:Bookmobile Stop: Kare&#039;N for Kids
UID:73871
DTSTAMP:20260426T021000Z
DTSTART:20260810T153000Z
DTEND:20260810T154500Z
LOCATION:Kare&#039;N for Kids, Bikle Rd, Smithsburg, MD 21783, United Stat
 es
ROOM: Bookmobile Stop: Kare&#039;N for Kids
DESCRIPTION:Everyone is welcome!
URL:https://wcfl.librarymarket.com/index.php/event/bookmobile-stop-karen-k
 ids-73871
END:VEVENT
END:VCALENDAR
