BEGIN:VCALENDAR
VERSION:2.0
PRODID:-//Library Market//iCal Export//EN
BEGIN:VEVENT
SUMMARY:Bookmobile Stop: Kare&#039;N for Kids
UID:73870
DTSTAMP:20260425T162300Z
DTSTART:20260713T153000Z
DTEND:20260713T154500Z
LOCATION:Kare&#039;N for Kids, Bikle Rd, Smithsburg, MD 21783, United Stat
 es
ROOM: Bookmobile Stop: Kare&#039;N for Kids
DESCRIPTION:Everyone is welcome!
URL:https://wcfl.librarymarket.com/index.php/event/bookmobile-stop-karen-k
 ids-73870
END:VEVENT
END:VCALENDAR
