BEGIN:VCALENDAR
VERSION:2.0
PRODID:-//Library Market//iCal Export//EN
BEGIN:VEVENT
SUMMARY:Bookmobile Stop: Smithsburg Valley Church
UID:73863
DTSTAMP:20260425T162300Z
DTSTART:20260713T134500Z
DTEND:20260713T141500Z
LOCATION:Smithsburg Valley Church, 12911 Bikle Rd, Smithsburg, MD 21787, U
 nited States
ROOM: Bookmobile Stop: Smithsburg Valley Church
DESCRIPTION:Staff, children, and families are welcome!
URL:https://wcfl.librarymarket.com/index.php/event/bookmobile-stop-smithsb
 urg-valley-church-73863
END:VEVENT
END:VCALENDAR
