BEGIN:VCALENDAR
VERSION:2.0
PRODID:-//Library Market//iCal Export//EN
BEGIN:VEVENT
SUMMARY:Bookmobile Stop: My Favorite Place
UID:73859
DTSTAMP:20260426T021000Z
DTSTART:20260608T130000Z
DTEND:20260608T134500Z
LOCATION:My Favorite Place, 22527 Jefferson Blvd, Smithsburg, MD 21783, Un
 ited States
ROOM: Bookmobile Stop: My Favorite Place
DESCRIPTION:Children, families, and staff are welcome!
URL:https://wcfl.librarymarket.com/index.php/event/bookmobile-stop-my-favo
 rite-place-73859
END:VEVENT
END:VCALENDAR
