BEGIN:VCALENDAR
VERSION:2.0
PRODID:-//Library Market//iCal Export//EN
BEGIN:VEVENT
SUMMARY:Bookmobile Stop: Hilltop at Homewood
UID:73830
DTSTAMP:20260425T162300Z
DTSTART:20260707T183000Z
DTEND:20260707T190000Z
LOCATION:Hilltop at Homewood, 16505 Virginia Avenue, Williamsport, MD 2179
 5, United States
ROOM: Bookmobile Stop: Hilltop at Homewood
DESCRIPTION:Staff and Residents welcome!
URL:https://wcfl.librarymarket.com/index.php/event/bookmobile-stop-hilltop
 -homewood-73830
END:VEVENT
END:VCALENDAR
