BEGIN:VCALENDAR
VERSION:2.0
PRODID:-//Library Market//iCal Export//EN
BEGIN:VEVENT
SUMMARY:Bookmobile Stop: Seaton of Hagerstown
UID:73770
DTSTAMP:20260424T045200Z
DTSTART:20260907T174500Z
DTEND:20260907T184500Z
LOCATION:Seaton of Hagerstown, 1175 Professional Blvd, Hagerstown, MD 2174
 0, United States
ROOM: Bookmobile Stop: Seaton of Hagerstown
DESCRIPTION:Staff and Residents welcome!
URL:https://wcfl.librarymarket.com/index.php/event/bookmobile-stop-seaton-
 hagerstown-73770
END:VEVENT
END:VCALENDAR
