BEGIN:VCALENDAR
VERSION:2.0
PRODID:-//Library Market//iCal Export//EN
BEGIN:VEVENT
SUMMARY:Care and Repair for Teens
UID:73743
DTSTAMP:20260423T152000Z
DTSTART:20260523T180000Z
DTEND:20260523T200000Z
LOCATION:100 S. Potomac Street, Hagerstown, MD 21740, United States
ROOM: YA Meeting Room 212
DESCRIPTION:Teens are invited to drop in for cookies, coloring and take-ho
 me mental healthcare packages.  Hosted by the Psychiatry Interest Group a
 t the Meritus School of Osteopathic Medicine.
URL:https://wcfl.librarymarket.com/index.php/event/care-and-repair-teens-7
 3743
END:VEVENT
END:VCALENDAR
